BEGIN:VCALENDAR
VERSION:2.0
PRODID:icalendar-ruby
CALSCALE:GREGORIAN
METHOD:PUBLISH
BEGIN:VTIMEZONE
TZID:Australia/Brisbane
BEGIN:STANDARD
DTSTART:19920301T020000
TZOFFSETFROM:+1100
TZOFFSETTO:+1000
TZNAME:AEST
END:STANDARD
END:VTIMEZONE
BEGIN:VEVENT
DTSTAMP:20260425T115832Z
UID:inspection_3011936
DTSTART;TZID=Australia/Brisbane:20260426T110000
DTEND;TZID=Australia/Brisbane:20260426T113000
CLASS:PUBLIC
CREATED:20260424T084748
DESCRIPTION: 
LAST-MODIFIED:20260424T084748
LOCATION:8 Dublane Court\, NARANGBA QLD 4504\, Australia
SUMMARY:8 Dublane Court\,  Inspection
URL;VALUE=URI:http://www.northbrisrealestate.com.au/
END:VEVENT
END:VCALENDAR
